BEGIN:VCALENDAR
VERSION:2.0
PRODID:-//Community Health Trust of Pajaro Valley - ECPv6.14.2//NONSGML v1.0//EN
CALSCALE:GREGORIAN
METHOD:PUBLISH
X-WR-CALNAME:Community Health Trust of Pajaro Valley
X-ORIGINAL-URL:https://pvhealthtrust.org
X-WR-CALDESC:Events for Community Health Trust of Pajaro Valley
REFRESH-INTERVAL;VALUE=DURATION:PT1H
X-Robots-Tag:noindex
X-PUBLISHED-TTL:PT1H
BEGIN:VTIMEZONE
TZID:America/Los_Angeles
BEGIN:DAYLIGHT
TZOFFSETFROM:-0800
TZOFFSETTO:-0700
TZNAME:PDT
DTSTART:20250309T100000
END:DAYLIGHT
BEGIN:STANDARD
TZOFFSETFROM:-0700
TZOFFSETTO:-0800
TZNAME:PST
DTSTART:20251102T090000
END:STANDARD
END:VTIMEZONE
BEGIN:VEVENT
DTSTART;TZID=America/Los_Angeles:20251108T160000
DTEND;TZID=America/Los_Angeles:20251108T190000
DTSTAMP:20260419T075256
CREATED:20251027T192216Z
LAST-MODIFIED:20251027T192216Z
UID:10001897-1762617600-1762628400@pvhealthtrust.org
SUMMARY:Wine & Roses
DESCRIPTION:Wine & Roses is a fundraising event celebrating the Pajaro Valley’s finest wines\, craft beers\, hors d’oeuvres\, and locally grown roses. Guests can enjoy an evening of tasting\, socializing\, and bidding on unique auction items\, including double magnums from local wineries\, international getaways\, and exclusive experiences. \nAll proceeds benefit the Community Health Trust\, supporting programs that prevent and manage chronic illnesses like diabetes\, obesity\, and high blood pressure. \nThis event offers both a memorable experience and the opportunity to support a healthier community.
URL:https://pvhealthtrust.org/event/wine-roses/
LOCATION:Crosetti Hall\, Santa Cruz County Fairgrounds\, Watsonville. CA\, 2601 E Lake Ave.\, Watsonville\, CA\, 95076\, United States
ATTACH;FMTTYPE=image/png:https://pvhealthtrust.org/wp-content/uploads/2025/10/Website-Photo.png
END:VEVENT
END:VCALENDAR