BEGIN:VCALENDAR
VERSION:2.0
PRODID:-//Community Health Trust of Pajaro Valley - ECPv6.14.2//NONSGML v1.0//EN
CALSCALE:GREGORIAN
METHOD:PUBLISH
X-ORIGINAL-URL:https://pvhealthtrust.org
X-WR-CALDESC:Events for Community Health Trust of Pajaro Valley
REFRESH-INTERVAL;VALUE=DURATION:PT1H
X-Robots-Tag:noindex
X-PUBLISHED-TTL:PT1H
BEGIN:VTIMEZONE
TZID:America/Los_Angeles
BEGIN:DAYLIGHT
TZOFFSETFROM:-0800
TZOFFSETTO:-0700
TZNAME:PDT
DTSTART:20300310T100000
END:DAYLIGHT
BEGIN:STANDARD
TZOFFSETFROM:-0700
TZOFFSETTO:-0800
TZNAME:PST
DTSTART:20301103T090000
END:STANDARD
END:VTIMEZONE
BEGIN:VEVENT
DTSTART;TZID=America/Los_Angeles:20300201T090000
DTEND;TZID=America/Los_Angeles:20300201T100000
DTSTAMP:20260420T195704
CREATED:20250812T222951Z
LAST-MODIFIED:20260318T171118Z
UID:10001224-1896166800-1896170400@pvhealthtrust.org
SUMMARY:Zumba
DESCRIPTION:Start your morning with music\, movement & good vibes at Centro De Bienestar! Zumba for adults (18+) at 9 AM\, every Monday\, Tuesday\, and Friday. \nNo-cost for Central California Alliance for Health members. Donation-based for all others
URL:https://pvhealthtrust.org/event/adult-zumba/2030-02-01/
LOCATION:Pinto Lake City Park\, 451 Green Valley Road\, Watsonville\, United States
CATEGORIES:Active Wellness
ATTACH;FMTTYPE=image/png:https://pvhealthtrust.org/wp-content/uploads/2025/08/Zumba.png
END:VEVENT
BEGIN:VEVENT
DTSTART;TZID=America/Los_Angeles:20300206T090000
DTEND;TZID=America/Los_Angeles:20300206T100000
DTSTAMP:20260420T195704
CREATED:20260210T183604Z
LAST-MODIFIED:20260318T171007Z
UID:10002452-1896598800-1896602400@pvhealthtrust.org
SUMMARY:Mat Pilates
DESCRIPTION:Build strength\, improve balance\, and feel your best. This low-impact class focuses on core strength\, posture\, and gentle movement\, perfect for all fitness levels.
URL:https://pvhealthtrust.org/event/mat-pilates/2030-02-06/
LOCATION:Kathleen King Community Room\, 85 Nielson St\, Watsonville\, CA\, 95076\, United States
CATEGORIES:Active Wellness
ATTACH;FMTTYPE=image/png:https://pvhealthtrust.org/wp-content/uploads/2026/02/Mat-P.png
END:VEVENT
BEGIN:VEVENT
DTSTART;TZID=America/Los_Angeles:20300208T090000
DTEND;TZID=America/Los_Angeles:20300208T100000
DTSTAMP:20260420T195704
CREATED:20250812T222951Z
LAST-MODIFIED:20260318T171118Z
UID:10001227-1896771600-1896775200@pvhealthtrust.org
SUMMARY:Zumba
DESCRIPTION:Start your morning with music\, movement & good vibes at Centro De Bienestar! Zumba for adults (18+) at 9 AM\, every Monday\, Tuesday\, and Friday. \nNo-cost for Central California Alliance for Health members. Donation-based for all others
URL:https://pvhealthtrust.org/event/adult-zumba/2030-02-08/
LOCATION:Pinto Lake City Park\, 451 Green Valley Road\, Watsonville\, United States
CATEGORIES:Active Wellness
ATTACH;FMTTYPE=image/png:https://pvhealthtrust.org/wp-content/uploads/2025/08/Zumba.png
END:VEVENT
BEGIN:VEVENT
DTSTART;TZID=America/Los_Angeles:20300213T090000
DTEND;TZID=America/Los_Angeles:20300213T100000
DTSTAMP:20260420T195704
CREATED:20260210T183604Z
LAST-MODIFIED:20260318T171007Z
UID:10002453-1897203600-1897207200@pvhealthtrust.org
SUMMARY:Mat Pilates
DESCRIPTION:Build strength\, improve balance\, and feel your best. This low-impact class focuses on core strength\, posture\, and gentle movement\, perfect for all fitness levels.
URL:https://pvhealthtrust.org/event/mat-pilates/2030-02-13/
LOCATION:Kathleen King Community Room\, 85 Nielson St\, Watsonville\, CA\, 95076\, United States
CATEGORIES:Active Wellness
ATTACH;FMTTYPE=image/png:https://pvhealthtrust.org/wp-content/uploads/2026/02/Mat-P.png
END:VEVENT
BEGIN:VEVENT
DTSTART;TZID=America/Los_Angeles:20300215T090000
DTEND;TZID=America/Los_Angeles:20300215T100000
DTSTAMP:20260420T195704
CREATED:20250812T222951Z
LAST-MODIFIED:20260318T171118Z
UID:10001230-1897376400-1897380000@pvhealthtrust.org
SUMMARY:Zumba
DESCRIPTION:Start your morning with music\, movement & good vibes at Centro De Bienestar! Zumba for adults (18+) at 9 AM\, every Monday\, Tuesday\, and Friday. \nNo-cost for Central California Alliance for Health members. Donation-based for all others
URL:https://pvhealthtrust.org/event/adult-zumba/2030-02-15/
LOCATION:Pinto Lake City Park\, 451 Green Valley Road\, Watsonville\, United States
CATEGORIES:Active Wellness
ATTACH;FMTTYPE=image/png:https://pvhealthtrust.org/wp-content/uploads/2025/08/Zumba.png
END:VEVENT
BEGIN:VEVENT
DTSTART;TZID=America/Los_Angeles:20300220T090000
DTEND;TZID=America/Los_Angeles:20300220T100000
DTSTAMP:20260420T195704
CREATED:20260210T183604Z
LAST-MODIFIED:20260318T171007Z
UID:10002454-1897808400-1897812000@pvhealthtrust.org
SUMMARY:Mat Pilates
DESCRIPTION:Build strength\, improve balance\, and feel your best. This low-impact class focuses on core strength\, posture\, and gentle movement\, perfect for all fitness levels.
URL:https://pvhealthtrust.org/event/mat-pilates/2030-02-20/
LOCATION:Kathleen King Community Room\, 85 Nielson St\, Watsonville\, CA\, 95076\, United States
CATEGORIES:Active Wellness
ATTACH;FMTTYPE=image/png:https://pvhealthtrust.org/wp-content/uploads/2026/02/Mat-P.png
END:VEVENT
BEGIN:VEVENT
DTSTART;TZID=America/Los_Angeles:20300222T090000
DTEND;TZID=America/Los_Angeles:20300222T100000
DTSTAMP:20260420T195704
CREATED:20250812T222951Z
LAST-MODIFIED:20260318T171118Z
UID:10001233-1897981200-1897984800@pvhealthtrust.org
SUMMARY:Zumba
DESCRIPTION:Start your morning with music\, movement & good vibes at Centro De Bienestar! Zumba for adults (18+) at 9 AM\, every Monday\, Tuesday\, and Friday. \nNo-cost for Central California Alliance for Health members. Donation-based for all others
URL:https://pvhealthtrust.org/event/adult-zumba/2030-02-22/
LOCATION:Pinto Lake City Park\, 451 Green Valley Road\, Watsonville\, United States
CATEGORIES:Active Wellness
ATTACH;FMTTYPE=image/png:https://pvhealthtrust.org/wp-content/uploads/2025/08/Zumba.png
END:VEVENT
BEGIN:VEVENT
DTSTART;TZID=America/Los_Angeles:20300227T090000
DTEND;TZID=America/Los_Angeles:20300227T100000
DTSTAMP:20260420T195704
CREATED:20260210T183604Z
LAST-MODIFIED:20260318T171007Z
UID:10002455-1898413200-1898416800@pvhealthtrust.org
SUMMARY:Mat Pilates
DESCRIPTION:Build strength\, improve balance\, and feel your best. This low-impact class focuses on core strength\, posture\, and gentle movement\, perfect for all fitness levels.
URL:https://pvhealthtrust.org/event/mat-pilates/2030-02-27/
LOCATION:Kathleen King Community Room\, 85 Nielson St\, Watsonville\, CA\, 95076\, United States
CATEGORIES:Active Wellness
ATTACH;FMTTYPE=image/png:https://pvhealthtrust.org/wp-content/uploads/2026/02/Mat-P.png
END:VEVENT
END:VCALENDAR