BEGIN:VCALENDAR
VERSION:2.0
PRODID:-//Community Health Trust of Pajaro Valley - ECPv6.14.2//NONSGML v1.0//EN
CALSCALE:GREGORIAN
METHOD:PUBLISH
X-ORIGINAL-URL:https://pvhealthtrust.org
X-WR-CALDESC:Events for Community Health Trust of Pajaro Valley
REFRESH-INTERVAL;VALUE=DURATION:PT1H
X-Robots-Tag:noindex
X-PUBLISHED-TTL:PT1H
BEGIN:VTIMEZONE
TZID:America/Los_Angeles
BEGIN:DAYLIGHT
TZOFFSETFROM:-0800
TZOFFSETTO:-0700
TZNAME:PDT
DTSTART:20300310T100000
END:DAYLIGHT
BEGIN:STANDARD
TZOFFSETFROM:-0700
TZOFFSETTO:-0800
TZNAME:PST
DTSTART:20301103T090000
END:STANDARD
END:VTIMEZONE
BEGIN:VEVENT
DTSTART;TZID=America/Los_Angeles:20300501T090000
DTEND;TZID=America/Los_Angeles:20300501T100000
DTSTAMP:20260421T005800
CREATED:20260210T183604Z
LAST-MODIFIED:20260318T171007Z
UID:10002464-1903856400-1903860000@pvhealthtrust.org
SUMMARY:Mat Pilates
DESCRIPTION:Build strength\, improve balance\, and feel your best. This low-impact class focuses on core strength\, posture\, and gentle movement\, perfect for all fitness levels.
URL:https://pvhealthtrust.org/event/mat-pilates/2030-05-01/
LOCATION:Kathleen King Community Room\, 85 Nielson St\, Watsonville\, CA\, 95076\, United States
CATEGORIES:Active Wellness
ATTACH;FMTTYPE=image/png:https://pvhealthtrust.org/wp-content/uploads/2026/02/Mat-P.png
END:VEVENT
BEGIN:VEVENT
DTSTART;TZID=America/Los_Angeles:20300503T090000
DTEND;TZID=America/Los_Angeles:20300503T100000
DTSTAMP:20260421T005800
CREATED:20250812T222951Z
LAST-MODIFIED:20260318T171118Z
UID:10001263-1904029200-1904032800@pvhealthtrust.org
SUMMARY:Zumba
DESCRIPTION:Start your morning with music\, movement & good vibes at Centro De Bienestar! Zumba for adults (18+) at 9 AM\, every Monday\, Tuesday\, and Friday. \nNo-cost for Central California Alliance for Health members. Donation-based for all others
URL:https://pvhealthtrust.org/event/adult-zumba/2030-05-03/
LOCATION:Pinto Lake City Park\, 451 Green Valley Road\, Watsonville\, United States
CATEGORIES:Active Wellness
ATTACH;FMTTYPE=image/png:https://pvhealthtrust.org/wp-content/uploads/2025/08/Zumba.png
END:VEVENT
BEGIN:VEVENT
DTSTART;TZID=America/Los_Angeles:20300508T090000
DTEND;TZID=America/Los_Angeles:20300508T100000
DTSTAMP:20260421T005800
CREATED:20260210T183604Z
LAST-MODIFIED:20260318T171007Z
UID:10002465-1904461200-1904464800@pvhealthtrust.org
SUMMARY:Mat Pilates
DESCRIPTION:Build strength\, improve balance\, and feel your best. This low-impact class focuses on core strength\, posture\, and gentle movement\, perfect for all fitness levels.
URL:https://pvhealthtrust.org/event/mat-pilates/2030-05-08/
LOCATION:Kathleen King Community Room\, 85 Nielson St\, Watsonville\, CA\, 95076\, United States
CATEGORIES:Active Wellness
ATTACH;FMTTYPE=image/png:https://pvhealthtrust.org/wp-content/uploads/2026/02/Mat-P.png
END:VEVENT
BEGIN:VEVENT
DTSTART;TZID=America/Los_Angeles:20300510T090000
DTEND;TZID=America/Los_Angeles:20300510T100000
DTSTAMP:20260421T005800
CREATED:20250812T222951Z
LAST-MODIFIED:20260318T171118Z
UID:10001266-1904634000-1904637600@pvhealthtrust.org
SUMMARY:Zumba
DESCRIPTION:Start your morning with music\, movement & good vibes at Centro De Bienestar! Zumba for adults (18+) at 9 AM\, every Monday\, Tuesday\, and Friday. \nNo-cost for Central California Alliance for Health members. Donation-based for all others
URL:https://pvhealthtrust.org/event/adult-zumba/2030-05-10/
LOCATION:Pinto Lake City Park\, 451 Green Valley Road\, Watsonville\, United States
CATEGORIES:Active Wellness
ATTACH;FMTTYPE=image/png:https://pvhealthtrust.org/wp-content/uploads/2025/08/Zumba.png
END:VEVENT
BEGIN:VEVENT
DTSTART;TZID=America/Los_Angeles:20300515T090000
DTEND;TZID=America/Los_Angeles:20300515T100000
DTSTAMP:20260421T005800
CREATED:20260210T183604Z
LAST-MODIFIED:20260318T171007Z
UID:10002466-1905066000-1905069600@pvhealthtrust.org
SUMMARY:Mat Pilates
DESCRIPTION:Build strength\, improve balance\, and feel your best. This low-impact class focuses on core strength\, posture\, and gentle movement\, perfect for all fitness levels.
URL:https://pvhealthtrust.org/event/mat-pilates/2030-05-15/
LOCATION:Kathleen King Community Room\, 85 Nielson St\, Watsonville\, CA\, 95076\, United States
CATEGORIES:Active Wellness
ATTACH;FMTTYPE=image/png:https://pvhealthtrust.org/wp-content/uploads/2026/02/Mat-P.png
END:VEVENT
BEGIN:VEVENT
DTSTART;TZID=America/Los_Angeles:20300517T090000
DTEND;TZID=America/Los_Angeles:20300517T100000
DTSTAMP:20260421T005800
CREATED:20250812T222951Z
LAST-MODIFIED:20260318T171118Z
UID:10001269-1905238800-1905242400@pvhealthtrust.org
SUMMARY:Zumba
DESCRIPTION:Start your morning with music\, movement & good vibes at Centro De Bienestar! Zumba for adults (18+) at 9 AM\, every Monday\, Tuesday\, and Friday. \nNo-cost for Central California Alliance for Health members. Donation-based for all others
URL:https://pvhealthtrust.org/event/adult-zumba/2030-05-17/
LOCATION:Pinto Lake City Park\, 451 Green Valley Road\, Watsonville\, United States
CATEGORIES:Active Wellness
ATTACH;FMTTYPE=image/png:https://pvhealthtrust.org/wp-content/uploads/2025/08/Zumba.png
END:VEVENT
BEGIN:VEVENT
DTSTART;TZID=America/Los_Angeles:20300522T090000
DTEND;TZID=America/Los_Angeles:20300522T100000
DTSTAMP:20260421T005800
CREATED:20260210T183604Z
LAST-MODIFIED:20260318T171007Z
UID:10002467-1905670800-1905674400@pvhealthtrust.org
SUMMARY:Mat Pilates
DESCRIPTION:Build strength\, improve balance\, and feel your best. This low-impact class focuses on core strength\, posture\, and gentle movement\, perfect for all fitness levels.
URL:https://pvhealthtrust.org/event/mat-pilates/2030-05-22/
LOCATION:Kathleen King Community Room\, 85 Nielson St\, Watsonville\, CA\, 95076\, United States
CATEGORIES:Active Wellness
ATTACH;FMTTYPE=image/png:https://pvhealthtrust.org/wp-content/uploads/2026/02/Mat-P.png
END:VEVENT
BEGIN:VEVENT
DTSTART;TZID=America/Los_Angeles:20300524T090000
DTEND;TZID=America/Los_Angeles:20300524T100000
DTSTAMP:20260421T005800
CREATED:20250812T222951Z
LAST-MODIFIED:20260318T171118Z
UID:10001272-1905843600-1905847200@pvhealthtrust.org
SUMMARY:Zumba
DESCRIPTION:Start your morning with music\, movement & good vibes at Centro De Bienestar! Zumba for adults (18+) at 9 AM\, every Monday\, Tuesday\, and Friday. \nNo-cost for Central California Alliance for Health members. Donation-based for all others
URL:https://pvhealthtrust.org/event/adult-zumba/2030-05-24/
LOCATION:Pinto Lake City Park\, 451 Green Valley Road\, Watsonville\, United States
CATEGORIES:Active Wellness
ATTACH;FMTTYPE=image/png:https://pvhealthtrust.org/wp-content/uploads/2025/08/Zumba.png
END:VEVENT
BEGIN:VEVENT
DTSTART;TZID=America/Los_Angeles:20300529T090000
DTEND;TZID=America/Los_Angeles:20300529T100000
DTSTAMP:20260421T005800
CREATED:20260210T183604Z
LAST-MODIFIED:20260318T171007Z
UID:10002468-1906275600-1906279200@pvhealthtrust.org
SUMMARY:Mat Pilates
DESCRIPTION:Build strength\, improve balance\, and feel your best. This low-impact class focuses on core strength\, posture\, and gentle movement\, perfect for all fitness levels.
URL:https://pvhealthtrust.org/event/mat-pilates/2030-05-29/
LOCATION:Kathleen King Community Room\, 85 Nielson St\, Watsonville\, CA\, 95076\, United States
CATEGORIES:Active Wellness
ATTACH;FMTTYPE=image/png:https://pvhealthtrust.org/wp-content/uploads/2026/02/Mat-P.png
END:VEVENT
BEGIN:VEVENT
DTSTART;TZID=America/Los_Angeles:20300531T090000
DTEND;TZID=America/Los_Angeles:20300531T100000
DTSTAMP:20260421T005800
CREATED:20250812T222951Z
LAST-MODIFIED:20260318T171118Z
UID:10001275-1906448400-1906452000@pvhealthtrust.org
SUMMARY:Zumba
DESCRIPTION:Start your morning with music\, movement & good vibes at Centro De Bienestar! Zumba for adults (18+) at 9 AM\, every Monday\, Tuesday\, and Friday. \nNo-cost for Central California Alliance for Health members. Donation-based for all others
URL:https://pvhealthtrust.org/event/adult-zumba/2030-05-31/
LOCATION:Pinto Lake City Park\, 451 Green Valley Road\, Watsonville\, United States
CATEGORIES:Active Wellness
ATTACH;FMTTYPE=image/png:https://pvhealthtrust.org/wp-content/uploads/2025/08/Zumba.png
END:VEVENT
END:VCALENDAR